BEGIN:VCALENDAR
VERSION:2.0
PRODID:-//InvictaGC - ECPv6.15.20//NONSGML v1.0//EN
CALSCALE:GREGORIAN
METHOD:PUBLISH
X-WR-CALNAME:InvictaGC
X-ORIGINAL-URL:https://invictagc.com
X-WR-CALDESC:Events for InvictaGC
REFRESH-INTERVAL;VALUE=DURATION:PT1H
X-Robots-Tag:noindex
X-PUBLISHED-TTL:PT1H
BEGIN:VTIMEZONE
TZID:America/New_York
BEGIN:DAYLIGHT
TZOFFSETFROM:-0500
TZOFFSETTO:-0400
TZNAME:EDT
DTSTART:20250309T070000
END:DAYLIGHT
BEGIN:STANDARD
TZOFFSETFROM:-0400
TZOFFSETTO:-0500
TZNAME:EST
DTSTART:20251102T060000
END:STANDARD
BEGIN:DAYLIGHT
TZOFFSETFROM:-0500
TZOFFSETTO:-0400
TZNAME:EDT
DTSTART:20260308T070000
END:DAYLIGHT
BEGIN:STANDARD
TZOFFSETFROM:-0400
TZOFFSETTO:-0500
TZNAME:EST
DTSTART:20261101T060000
END:STANDARD
BEGIN:DAYLIGHT
TZOFFSETFROM:-0500
TZOFFSETTO:-0400
TZNAME:EDT
DTSTART:20270314T070000
END:DAYLIGHT
BEGIN:STANDARD
TZOFFSETFROM:-0400
TZOFFSETTO:-0500
TZNAME:EST
DTSTART:20271107T060000
END:STANDARD
END:VTIMEZONE
BEGIN:VEVENT
DTSTART;TZID=America/New_York:20260412T080000
DTEND;TZID=America/New_York:20260507T170000
DTSTAMP:20260421T055409
CREATED:20260412T204328Z
LAST-MODIFIED:20260412T212015Z
UID:467-1775980800-1778173200@invictagc.com
SUMMARY:ICG Altered Asgartha Grand Prix
DESCRIPTION:Date: Sign-ups: April 12th thru May 3rd | Round 1 Starts: May 3rd @ 12:00pm (EDT)\nEvent: IGC Agarath Grand Prix\nLocation: Online\nGame: Altered\nGame Format: Singleton\nMatch Format: Swiss Rounds\nPlatform: BoardGameArena.com\nEntry Fee: Free\nCommunication: All players must use the IGC Discord server.\nSign-up Link: Calendar Event Page \n 
URL:https://invictagc.com/event/icg-altered-asgartha-grand-prix/
CATEGORIES:Altered,TCG Games
ATTACH;FMTTYPE=image/png:https://invictagc.com/wp-content/uploads/2026/04/alterd-banner.png
ORGANIZER;CN="Paul M.":MAILTO:paul.james.miles@gmail.com
END:VEVENT
BEGIN:VEVENT
DTSTART;TZID=America/New_York:20260412T080000
DTEND;TZID=America/New_York:20260515T170000
DTSTAMP:20260421T055409
CREATED:20260413T004034Z
LAST-MODIFIED:20260413T004034Z
UID:491-1775980800-1778864400@invictagc.com
SUMMARY:IGC Grand Prix of Babylon
DESCRIPTION:
URL:https://invictagc.com/event/igc-grand-prix-of-babylon/
CATEGORIES:7 Wonders Duel,Board Games
ATTACH;FMTTYPE=image/png:https://invictagc.com/wp-content/uploads/2026/04/7wd-babylon-gp.png
ORGANIZER;CN="Paul M.":MAILTO:paul.james.miles@gmail.com
END:VEVENT
BEGIN:VEVENT
DTSTART;TZID=America/New_York:20260412T080000
DTEND;TZID=America/New_York:20260807T170000
DTSTAMP:20260421T055409
CREATED:20260413T015534Z
LAST-MODIFIED:20260414T003007Z
UID:501-1775980800-1786122000@invictagc.com
SUMMARY:IGC Steam Powered Grand Prix
DESCRIPTION:
URL:https://invictagc.com/event/igc-steam-powered-grand-prix/
CATEGORIES:Board Games,Ticket to Ride
ATTACH;FMTTYPE=image/png:https://invictagc.com/wp-content/uploads/2026/04/TTR-gp-banner.png
END:VEVENT
BEGIN:VEVENT
DTSTART;VALUE=DATE:20260415
DTEND;VALUE=DATE:20260426
DTSTAMP:20260421T055409
CREATED:20260326T021204Z
LAST-MODIFIED:20260326T021204Z
UID:238-1776211200-1777161599@invictagc.com
SUMMARY:Azul Spring Grand Prix
DESCRIPTION:Azul Grand Prix\n                \n            \n\n            \n        \n        \n                    \n                Game: Azul (Next Move Games)\nTheme: abstract\, tile drafting\nBoardGameGeek Score: 7.7\nOfficial IGC Online Server: BoardGameArena\nFormat: Swiss Rounds\nTiming: turn-based\nRegistration: Open \nInvictaGC Azul Grand Prix Schedule\nApril\nRegistration Ends: April 15 @ 7:30pm (EST)\nRound 1 Starts: April 15th @ 7:38pm (EST)\nRound Time Allotment: 1 week 3 days (5 days per player)\nLink: boardgamearena.com/tournament?id=543211 \nMay\nRegistration Ends: May 1 @ 8:00pm (EST)\nRound 1 Starts: May 1 @ 8:05pm (EST0\nRound Time Allotment: 1 week 3 days (5 days per player)\nLink: boardgamearena.com/tournament?id=547851 \nPast InvictaGC Azul Grand Prix Event Winners
URL:https://invictagc.com/event/azul-spring-grand-prix/
CATEGORIES:Azul,Board Games
ATTACH;FMTTYPE=image/png:https://invictagc.com/wp-content/uploads/2026/03/azul-gp.png
ORGANIZER;CN="Paul M.":MAILTO:paul.james.miles@gmail.com
END:VEVENT
BEGIN:VEVENT
DTSTART;VALUE=DATE:20260420
DTEND;VALUE=DATE:20260718
DTSTAMP:20260421T055409
CREATED:20260403T005457Z
LAST-MODIFIED:20260403T010223Z
UID:357-1776643200-1784332799@invictagc.com
SUMMARY:Catan Summer Grand Prix
DESCRIPTION:
URL:https://invictagc.com/event/catan-summer-grand-prix/
CATEGORIES:Board Games,Catan
ATTACH;FMTTYPE=image/png:https://invictagc.com/wp-content/uploads/2026/04/catan.png
ORGANIZER;CN="Paul M.":MAILTO:paul.james.miles@gmail.com
END:VEVENT
BEGIN:VEVENT
DTSTART;TZID=America/New_York:20260423T190000
DTEND;TZID=America/New_York:20260423T220000
DTSTAMP:20260421T055409
CREATED:20260418T020434Z
LAST-MODIFIED:20260418T215738Z
UID:532-1776970800-1776981600@invictagc.com
SUMMARY:Chatsubo Netrunner League
DESCRIPTION:Standings | Upcoming League Nights\nAbout\nThe Chatsubo Netrunner League is a weekly game night hosted by InvictaGC. Each Wednesday\, players will compete in a swiss rounds event. Check-in is from 6:30pm (Eastern)\, with round 1 triggering at 7:00pm. \nProcedure\nAll players must pre-register via our Challonge account.\nAll players must be available and monitoring the IGC Discord server.\nAll players must also have a Jinteki.net account.\nIt would be awesome if all players also had an InvictaGC.com profile. \nWith an InvictaGC profile\, players can be added to our Chatsubo League standings\, and earn participation badges. \nPlayers will be able to check-in via Challonge beginning at 6:30pm. Deck registration is not required.\nAll players need to be available in the Discord server by 7:00pm. At that point\, the first round will be posted. \nEach round will have a 45 minute time limit. \nPlayers will have 5 minutes after the timer starts to get their match loaded. \nPrizing\nTBD
URL:https://invictagc.com/event/chatsubo-netrunner-league/
CATEGORIES:Netrunner,TCG Games
ATTACH;FMTTYPE=image/png:https://invictagc.com/wp-content/uploads/2026/04/chatsubo.png
ORGANIZER;CN="Paul M.":MAILTO:paul.james.miles@gmail.com
END:VEVENT
BEGIN:VEVENT
DTSTART;TZID=America/New_York:20260430T190000
DTEND;TZID=America/New_York:20260430T220000
DTSTAMP:20260421T055409
CREATED:20260418T220154Z
LAST-MODIFIED:20260418T220154Z
UID:544-1777575600-1777586400@invictagc.com
SUMMARY:Chatsubo Netrunner League
DESCRIPTION:Standings | Upcoming League Nights\nAbout\nThe Chatsubo Netrunner League is a weekly game night hosted by InvictaGC. Each Wednesday\, players will compete in a swiss rounds event. Check-in is from 6:30pm (Eastern)\, with round 1 triggering at 7:00pm. \nProcedure\nAll players must pre-register via our Challonge account.\nAll players must be available and monitoring the IGC Discord server.\nAll players must also have a Jinteki.net account.\nIt would be awesome if all players also had an InvictaGC.com profile. \nWith an InvictaGC profile\, players can be added to our Chatsubo League standings\, and earn participation badges. \nPlayers will be able to check-in via Challonge beginning at 6:30pm. Deck registration is not required.\nAll players need to be available in the Discord server by 7:00pm. At that point\, the first round will be posted. \nEach round will have a 45 minute time limit. \nPlayers will have 5 minutes after the timer starts to get their match loaded. \nPrizing\nTBD
URL:https://invictagc.com/event/chatsubo-netrunner-league-2/
CATEGORIES:Netrunner,TCG Games
ATTACH;FMTTYPE=image/png:https://invictagc.com/wp-content/uploads/2026/04/chatsubo.png
ORGANIZER;CN="Paul M.":MAILTO:paul.james.miles@gmail.com
END:VEVENT
BEGIN:VEVENT
DTSTART;VALUE=DATE:20260501
DTEND;VALUE=DATE:20260601
DTSTAMP:20260421T055409
CREATED:20260407T215225Z
LAST-MODIFIED:20260412T020924Z
UID:413-1777593600-1780271999@invictagc.com
SUMMARY:Azul Grand Prix - May
DESCRIPTION:
URL:https://invictagc.com/event/azul-grand-prix-may/
CATEGORIES:Azul,Board Games
ATTACH;FMTTYPE=image/webp:https://invictagc.com/wp-content/uploads/2026/03/azul.webp
ORGANIZER;CN="Paul M.":MAILTO:paul.james.miles@gmail.com
END:VEVENT
BEGIN:VEVENT
DTSTART;TZID=America/New_York:20260530T100000
DTEND;TZID=America/New_York:20260530T170000
DTSTAMP:20260421T055409
CREATED:20260410T015321Z
LAST-MODIFIED:20260410T022433Z
UID:424-1780135200-1780160400@invictagc.com
SUMMARY:San Francisco Open 2026 (2E Standard)
DESCRIPTION:The IGC San Francisco Open is the first of 3 Championship Series events planned for 2026. It is an online event and NOT an in-person event.\nThe “San Fracisco Open” is named in honor of the future home of the Federation of Planets. \nDate: Saturday\, May 30th | 10:00AM (EST)\nEvent: IGC San Francisco Open\nLocation: Online\nGame: Star Trek CCG\nGame Format: 2nd Edition/Standard\nMatch Format: Swiss Rounds to Top 4 Single Elimination Bracket\nPlatform: Lackey CCG\nEntry Fee: Free\nRules: Continuing Committee\nCommunication: All players must use the IGC Discord server. \nPrizes\nTop four finishers will receive physical proxy cards. \n1st – 4 cards\n2nd – 3 cards\n3rd – 2 cards\n4th – 1 card\n(proxy card rewards are available to players in the United States only. Sorry that our president is a chaos goblin.) \nAll contestants will receive the following badge for their user profile.
URL:https://invictagc.com/event/san-francisco-open-2026-2e-standard/
CATEGORIES:Star Trek CCG,Star Trek CCG 2E,TCG Games
ATTACH;FMTTYPE=image/png:https://invictagc.com/wp-content/uploads/2026/04/sfo26-ban-1.png
ORGANIZER;CN="Paul M.":MAILTO:paul.james.miles@gmail.com
END:VEVENT
BEGIN:VEVENT
DTSTART;TZID=America/New_York:20260829T100000
DTEND;TZID=America/New_York:20260829T170000
DTSTAMP:20260421T055409
CREATED:20260412T031922Z
LAST-MODIFIED:20260412T164303Z
UID:459-1787997600-1788022800@invictagc.com
SUMMARY:Lakat Classic 2026
DESCRIPTION:Date: Saturday\, June 27th | 10:00AM (EST)\nEvent: IGC Lakat Classic 2026\nLocation: Online\nGame: Star Trek CCG\nGame Format: 2nd Edition/Standard\nMatch Format: Swiss Rounds to Top 4 Single Elimination Bracket\nPlatform: Lackey CCG\nEntry Fee: Free\nRules: Continuing Committee\nCommunication: All players must use the IGC Discord server. \nPrizes\nTop four finishers will receive physical proxy cards. \n1st – 4 cards\n2nd – 3 cards\n3rd – 2 cards\n4th – 1 card\n(proxy card rewards are available to players in the United States only. Sorry that our president is a chaos goblin.) \n\n    First Second Third Fouth﻿ \n    \n        \n            \n        \n    \n\n    \n        \n            \n        \n    \n\n    \n        \n            \n        \n    \n\n    \n        \n            \n        \n    \n\n    \n        \n            \n        \n    \n\n    \n        \n            \n        \n    \n\n    \n        \n            \n        \n    \n\n    \n        \n            \n        \n    \n\n    \n        \n            \n        \n    \n\n    \n        \n            \n        \n    \n\n\n\n(Award cards have not been finalized.) \nEvery entrant will receive this Achievement for their InvictaGC profile: \n \n 
URL:https://invictagc.com/event/lakat-classic-2026/
CATEGORIES:Star Trek CCG,Star Trek CCG 2E,TCG Games
ORGANIZER;CN="Paul M.":MAILTO:paul.james.miles@gmail.com
END:VEVENT
END:VCALENDAR